BEGIN:VCALENDAR
VERSION:2.0
PRODID:-//Detroit Wedding Day - ECPv6.15.11//NONSGML v1.0//EN
CALSCALE:GREGORIAN
METHOD:PUBLISH
X-ORIGINAL-URL:https://detroitweddingday.com
X-WR-CALDESC:Events for Detroit Wedding Day
REFRESH-INTERVAL;VALUE=DURATION:PT1H
X-Robots-Tag:noindex
X-PUBLISHED-TTL:PT1H
BEGIN:VTIMEZONE
TZID:America/New_York
BEGIN:DAYLIGHT
TZOFFSETFROM:-0500
TZOFFSETTO:-0400
TZNAME:EDT
DTSTART:20190310T070000
END:DAYLIGHT
BEGIN:STANDARD
TZOFFSETFROM:-0400
TZOFFSETTO:-0500
TZNAME:EST
DTSTART:20191103T060000
END:STANDARD
BEGIN:DAYLIGHT
TZOFFSETFROM:-0500
TZOFFSETTO:-0400
TZNAME:EDT
DTSTART:20200308T070000
END:DAYLIGHT
BEGIN:STANDARD
TZOFFSETFROM:-0400
TZOFFSETTO:-0500
TZNAME:EST
DTSTART:20201101T060000
END:STANDARD
BEGIN:DAYLIGHT
TZOFFSETFROM:-0500
TZOFFSETTO:-0400
TZNAME:EDT
DTSTART:20210314T070000
END:DAYLIGHT
BEGIN:STANDARD
TZOFFSETFROM:-0400
TZOFFSETTO:-0500
TZNAME:EST
DTSTART:20211107T060000
END:STANDARD
END:VTIMEZONE
BEGIN:VTIMEZONE
TZID:UTC
BEGIN:STANDARD
TZOFFSETFROM:+0000
TZOFFSETTO:+0000
TZNAME:UTC
DTSTART:20160101T000000
END:STANDARD
END:VTIMEZONE
BEGIN:VEVENT
DTSTART;TZID=America/New_York:20200919T120000
DTEND;TZID=America/New_York:20200919T160000
DTSTAMP:20260423T085646
CREATED:20200915T045140Z
LAST-MODIFIED:20220509T194747Z
UID:5878-1600516800-1600531200@detroitweddingday.com
SUMMARY:Roses R Red Inc. - Grand Opening Event\, Livonia MI
DESCRIPTION:Roses R Red\, Inc. celebrates the grand opening of their women’s boutique and accessories store.\nTo learn more about this client read the Detroit Wedding Day exclusive vendor feature interview.\n  \nSaturday\, September 19\, 2020\nRoses R Red\, Inc.\n28402 Five Mile Road\nLivonia\, MI 48154\n  \nVendor Event – Grand Opening in Livonia\, MI\, Michigan \nLooking for an event to attend? Check these local area wedding events\, bridal shows\, and more. Do you want an event or business that you would like to promote? Contact us today.
URL:https://detroitweddingday.com/event/roses-r-red-inc-grand-opening-event-livonia-mi/
LOCATION:Roses R Red Inc.\, 28402 Five Mile\, Livonia\, MI\, 48154\, United States
CATEGORIES:General Event - Vendor Supported Event,Sales Event
ATTACH;FMTTYPE=image/jpeg:https://detroitweddingday.com/wp-content/uploads/2020/09/grand-opening-flyer-Roses-R-Red-Inc-scaled.jpg
END:VEVENT
BEGIN:VEVENT
DTSTART;TZID=UTC:20180922T090000
DTEND;TZID=UTC:20180922T140000
DTSTAMP:20260423T085646
CREATED:20180622T200512Z
LAST-MODIFIED:20180622T201221Z
UID:2693-1537606800-1537624800@detroitweddingday.com
SUMMARY:Packard Proving Grounds - Honoring History - Tribute to the 50's
DESCRIPTION:Courtesy of shelbyfarmersmarket.com \nThe Packard Proving Grounds Historic Site celebrates its 90th anniversary this year.  In honor of this milestone the Shelby Farmers Market will help celebrate with a four-part honoring history series.  This includes a free Packard Proving Ground historic site tour every Saturday at 10 a.m. \nThe Dates for this tribute are: \n\n June 23 – Tribute to the 20’s\nJuly 28 – Tribute to the 30’s\nAugust 18 – Tribute to the 40’s\nSeptember 22 –  Tribute to the 50’s\n\nFor more information about the Packard Proving Grounds Historic Site read an inspiring interview about this historic site. \nCLICK HERE TO READ THE FEATURE VENDOR INTERVIEW \n  \nBridal Shows & Wedding Events in Detroit\, MI\, Michigan\nLooking for an event to attend?  Check these local area wedding events\, bridal shows\, and more. Do you want an event or business that you would like to promote?  Contact us today.
URL:https://detroitweddingday.com/event/packard-proving-grounds-honoring-history-tribute-to-the-50s/
LOCATION:Packard Proving Grounds Historic Site\, 49965 Van Dyke Avenue\, Shelby Towhship\, MI\, 48317\, United States
CATEGORIES:Sales Event
END:VEVENT
BEGIN:VEVENT
DTSTART;TZID=UTC:20180818T090000
DTEND;TZID=UTC:20180818T140000
DTSTAMP:20260423T085646
CREATED:20180622T195934Z
LAST-MODIFIED:20180622T201339Z
UID:2687-1534582800-1534600800@detroitweddingday.com
SUMMARY:Packard Proving Grounds - Honoring History - Tribute to the 40's
DESCRIPTION:Courtesy of shelbyfarmersmarket.com \nThe Packard Proving Grounds Historic Site celebrates its 90th anniversary this year.  In honor of this milestone the Shelby Farmers Market will help celebrate with a four-part honoring history series.  This includes a free Packard Proving Ground historic site tour every Saturday at 10 a.m. \nThe Dates for this tribute are: \n\n June 23 – Tribute to the 20’s\nJuly 28 – Tribute to the 30’s\nAugust 18 – Tribute to the 40’s\nSeptember 22 –  Tribute to the 50’s\n\nFor more information about the Packard Proving Grounds Historic Site read an inspiring interview about this historic site. \nCLICK HERE TO READ THE FEATURE VENDOR INTERVIEW \n  \nBridal Shows & Wedding Events in Detroit\, MI\, Michigan\nLooking for an event to attend?  Check these local area wedding events\, bridal shows\, and more. Do you want an event or business that you would like to promote?  Contact us today.
URL:https://detroitweddingday.com/event/packard-proving-grounds-honoring-history-tribute-to-the-40s/
LOCATION:Packard Proving Grounds Historic Site\, 49965 Van Dyke Avenue\, Shelby Towhship\, MI\, 48317\, United States
CATEGORIES:Sales Event
END:VEVENT
BEGIN:VEVENT
DTSTART;TZID=UTC:20180728T090000
DTEND;TZID=UTC:20180728T140000
DTSTAMP:20260423T085646
CREATED:20180622T194943Z
LAST-MODIFIED:20180622T201031Z
UID:2683-1532768400-1532786400@detroitweddingday.com
SUMMARY:Packard Proving Grounds - Honoring History - Tribute to the 30's
DESCRIPTION:Courtesy of shelbyfarmersmarket.com \nThe Packard Proving Grounds Historic Site celebrates its 90th anniversary this year.  In honor of this milestone the Shelby Farmers Market will help celebrate with a four-part honoring history series.  This includes a free Packard Proving Ground historic site tour every Saturday at 10 a.m. \nThe Dates for this tribute are: \n\n June 23 – Tribute to the 20’s\nJuly 28 – Tribute to the 30’s\nAugust 18 – Tribute to the 40’s\nSeptember 22 –  Tribute to the 50’s\n\nFor more information about the Packard Proving Grounds Historic Site read an inspiring interview about this historic site. \nCLICK HERE TO READ THE FEATURE VENDOR INTERVIEW \n  \nBridal Shows & Wedding Events in Detroit\, MI\, Michigan\nLooking for an event to attend?  Check these local area wedding events\, bridal shows\, and more. Do you want an event or business that you would like to promote?  Contact us today.
URL:https://detroitweddingday.com/event/packard-proving-grounds-honoring-history-tribute-to-the-30s/
LOCATION:Packard Proving Grounds Historic Site\, 49965 Van Dyke Avenue\, Shelby Towhship\, MI\, 48317\, United States
CATEGORIES:Sales Event
END:VEVENT
BEGIN:VEVENT
DTSTART;TZID=UTC:20180623T090000
DTEND;TZID=UTC:20180623T140000
DTSTAMP:20260423T085646
CREATED:20180622T191859Z
LAST-MODIFIED:20180622T210119Z
UID:2674-1529744400-1529762400@detroitweddingday.com
SUMMARY:Packard Proving Grounds - Honoring History - Tribute to the 20's
DESCRIPTION:Courtesy of shelbyfarmersmarket.com \nThe Packard Proving Grounds Historic Site celebrates its 90th anniversary this year.  In honor of this milestone the Shelby Farmers Market will help celebrate with a four-part honoring history series.  This includes a free Packard Proving Ground historic site tour every Saturday at 10 a.m. \nThe Dates for this tribute are: \n\n June 23 – Tribute to the 20’s\nJuly 28 – Tribute to the 30’s\nAugust 18 – Tribute to the 40’s\nSeptember 22 –  Tribute to the 50’s\n\nFor more information about the Packard Proving Grounds Historic Site read an inspiring interview about this historic site. \nCLICK HERE TO READ THE FEATURE VENDOR INTERVIEW \n  \nBridal Shows & Wedding Events in Detroit\, MI\, Michigan\nLooking for an event to attend?  Check these local area wedding events\, bridal shows\, and more. Do you want an event or business that you would like to promote?  Contact us today.
URL:https://detroitweddingday.com/event/packard-proving-grounds-honoring-history-tribute-to-the-20s/
LOCATION:Packard Proving Grounds Historic Site\, 49965 Van Dyke Avenue\, Shelby Towhship\, MI\, 48317\, United States
CATEGORIES:Sales Event
END:VEVENT
BEGIN:VEVENT
DTSTART;TZID=UTC:20180615T100000
DTEND;TZID=UTC:20180616T180000
DTSTAMP:20260423T085646
CREATED:20180608T182545Z
LAST-MODIFIED:20180608T184028Z
UID:2660-1529056800-1529172000@detroitweddingday.com
SUMMARY:Bellissima Bridal Salon\, trunk sale\, 6-15-18 - 6-16-18
DESCRIPTION:To welcome the Martin Thornburg line of bridal dresses\, Bellissima Bridal Salon is hosting a Trunk Show.   This event is by appointment only.  Discount will be available during Trunk Show.  Call for more details. \n  \nFriday June 15\, 2018 – Saturday\, June 16\, 2018\nBellissima Bridal Salon\n234 South Main Street\nRochester\, MI 48307\n  \n  \n  \n  \nBridal Shows & Wedding Events in Detroit\, MI\, Michigan\nLooking for an event to attend?  Check these local area wedding events\, bridal shows\, and more. Do you want an event or business that you would like to promote?  Contact us today.
URL:https://detroitweddingday.com/event/bellissima-bridal-salon-trunk-sale-6-15-18-6-16-18/
LOCATION:Bellissima Bridal Salon\, 234 South Main Street\, Rochester\, MI\, 48307\, United States
CATEGORIES:Sales Event
ORGANIZER;CN="Bellissima Bridal Salon":MAILTO:info@bellissimabridalsalon.com
END:VEVENT
BEGIN:VEVENT
DTSTART;TZID=UTC:20180301T190000
DTEND;TZID=UTC:20180301T210000
DTSTAMP:20260423T085646
CREATED:20180110T202223Z
LAST-MODIFIED:20180211T004059Z
UID:2105-1519930800-1519938000@detroitweddingday.com
SUMMARY:Bed Bath & Beyond\, Rock Your Registry\, Sterling Heights\, MI
DESCRIPTION:Bed Bath & Beyond\, Rock Your Registry \n \n  \nBed Bath & Beyond hosts the Rock Your Registry event at their Sterling Heights store located at 12020 Hall Road\, Sterling Heights on Thursday\, March 1st from 7 to 9 p.m.  The evening features registry consultants\, refreshments\, hosting ideas\, and a tote filled with giveaways for registered guest. RSVP for this special event.  Just click this link to begin. \n  \n  \nBridal Shows & Wedding Events in Detroit\, MI\, Michigan\nLooking for an event to attend?  Check these local area wedding events\, bridal shows\, and more. Do you want an event or business that you would like to promote?  Contact us today.
URL:https://detroitweddingday.com/event/bed-bath-beyond-rock-registry-sterling-heights-mi/
LOCATION:Bed Bath & Beyond – Sterling Heights\, MI\, 12020 Hall Road\, Sterling Heights\, Michigan\, 48313
CATEGORIES:Bridal Show - Wedding Show,Sales Event
END:VEVENT
BEGIN:VEVENT
DTSTART;TZID=UTC:20180123T193000
DTEND;TZID=UTC:20180123T210000
DTSTAMP:20260423T085646
CREATED:20180110T201115Z
LAST-MODIFIED:20180110T202734Z
UID:2094-1516735800-1516741200@detroitweddingday.com
SUMMARY:Bed Bath & Beyond\, Rock Your Registry\, Farmington Hills\, MI
DESCRIPTION:Bed Bath & Beyond\, Rock Your Registry \n \n  \nBed Bath & Beyond hosts the Rock Your Registry event at their Farmington Hills store located at 31075 Orchard Lake Road on Tuesday\, January 23rd from 7 to 9 p.m.  The evening features registry consultants\, refreshments\, hosting ideas\, and a tote filled with giveaways for registered guest. RSVP for this special event.  Just click this link to begin.
URL:https://detroitweddingday.com/event/rock-registry-event-bed-bath-and-beyond-farmington-hills-mi/
LOCATION:Bed Bath & Beyond – Farmington Hills\, MI\, 31075 Orchard Lake Road\, Farmington Hills\, MI\, 48334
CATEGORIES:Bridal Show - Wedding Show,Sales Event
END:VEVENT
BEGIN:VEVENT
DTSTART;VALUE=DATE:20170728
DTEND;VALUE=DATE:20170730
DTSTAMP:20260423T085646
CREATED:20170705T062755Z
LAST-MODIFIED:20170707T182547Z
UID:1326-1501200000-1501372799@detroitweddingday.com
SUMMARY:Bridal Couture of Birmingham - Hayley Paige Spring 2017 Bridal Gown Trunk Show (SALES EVENT)
DESCRIPTION:Hayley Paige Spring 2017 Bridal Gown Trunk Show:  July 28 – July 29.\nAppointments required
URL:https://detroitweddingday.com/event/bridal-couture-birmingham-hayley-paige-spring-2017-bridal-gown-trunk-show/
LOCATION:bridal couture of birmingham\, 912 South Old Woodward\, Birmingham\, 48009\, United States
CATEGORIES:Sales Event
ATTACH;FMTTYPE=image/jpeg:https://detroitweddingday.com/wp-content/uploads/2017/07/DSC03904.jpg
END:VEVENT
BEGIN:VEVENT
DTSTART;VALUE=DATE:20170715
DTEND;VALUE=DATE:20170723
DTSTAMP:20260423T085646
CREATED:20170705T062510Z
LAST-MODIFIED:20170705T190753Z
UID:1323-1500076800-1500767999@detroitweddingday.com
SUMMARY:Bridal Couture of Birmingham - National Bridal Sale
DESCRIPTION:National Bridal Sale:  July 15 – July 22.\nAppointments required.
URL:https://detroitweddingday.com/event/bridal-couture-birmingham-national-bridal-sale/
LOCATION:MI
CATEGORIES:Sales Event
ATTACH;FMTTYPE=image/jpeg:https://detroitweddingday.com/wp-content/uploads/2017/07/DSC03904.jpg
END:VEVENT
BEGIN:VEVENT
DTSTART;VALUE=DATE:20170712
DTEND;VALUE=DATE:20170723
DTSTAMP:20260423T085646
CREATED:20170705T081512Z
LAST-MODIFIED:20170708T045503Z
UID:1328-1499817600-1500767999@detroitweddingday.com
SUMMARY:Elizabeth's Bridal Manor National Bridal Sale Event (SALES EVENT)
DESCRIPTION:Elizabeth’s Bridal Manor National Bridal Sale Event\nThe National Sample Sale runs July 12-22\nUp to 75% off\nAppointments are Required
URL:https://detroitweddingday.com/event/elizabeths-bridal-manor-national-bridal-sale-event/
LOCATION:Elizabeth’s Bridal Manor\, 402 S. Main\, Northville\, 48167\, United States
CATEGORIES:Sales Event
ATTACH;FMTTYPE=image/png:https://detroitweddingday.com/wp-content/uploads/2017/07/Elizabeth-Bridal-Logo-png.png
END:VEVENT
BEGIN:VEVENT
DTSTART;VALUE=DATE:20170707
DTEND;VALUE=DATE:20170709
DTSTAMP:20260423T085646
CREATED:20170705T062210Z
LAST-MODIFIED:20170707T182617Z
UID:1312-1499385600-1499558399@detroitweddingday.com
SUMMARY:Bridal Couture of Birmingham  - Lazaro Fall 2017 Bridal Gown Trunk Show (SALES EVENT)
DESCRIPTION:Lazaro Fall 2017 Bridal Gown Trunk Show:  July 7 – July 8.\n\n\n\n\nAppointments required.
URL:https://detroitweddingday.com/event/bridal-couture-of-birmingham-lazaro-fall-2017-bridal-gown-trunk-show/
LOCATION:bridal couture of birmingham\, 912 South Old Woodward\, Birmingham\, 48009\, United States
CATEGORIES:Sales Event
ATTACH;FMTTYPE=image/jpeg:https://detroitweddingday.com/wp-content/uploads/2017/07/DSC03904.jpg
END:VEVENT
END:VCALENDAR